BEGIN:VCALENDAR
VERSION:2.0
PRODID:SchoolNow
CALSCALE:GREGORIAN
BEGIN:VEVENT
UID:610b591c-97d0-11f0-ab0a-0affe5fb5e8f
DTSTAMP:20250922T162248Z
SUMMARY:CDD Meeting - Aug. 2026
LOCATION:The Waterset Club located at 7281 Paradiso Dr. Apollo Beach\, FL 3
 3572
URL;VALUE=URI:https://www.watersetcentralcdd.org/calendar/8653063/cdd-meeti
 ng-aug-2026
DTSTART:20260812T140000Z
DTEND:20260812T150000Z
END:VEVENT
END:VCALENDAR
