BEGIN:VCALENDAR
VERSION:2.0
PRODID:SchoolNow
CALSCALE:GREGORIAN
BEGIN:VEVENT
UID:55b1bb1a-97d0-11f0-8a29-0a58a9feac02
DTSTAMP:20250922T162229Z
SUMMARY:CDD Meeting - Jun. 2026
LOCATION:The Waterset Club located at 7281 Paradiso Dr. Apollo Beach\, FL 3
 3572
URL;VALUE=URI:https://www.watersetcentralcdd.org/calendar/8653062/cdd-meeti
 ng-jun-2026
DTSTART:20260610T140000Z
DTEND:20260610T150000Z
END:VEVENT
END:VCALENDAR
