BEGIN:VCALENDAR
VERSION:2.0
PRODID:SchoolNow
CALSCALE:GREGORIAN
BEGIN:VEVENT
UID:4c2b211c-97d0-11f0-b353-0affd059ea83
DTSTAMP:20260407T195537Z
SUMMARY:CDD Meeting - Apr. 2026
LOCATION:The Waterset Club located at 7281 Paradiso Dr. Apollo Beach\, FL 3
 3572
URL;VALUE=URI:https://www.watersetcentralcdd.org/calendar/8653061/cdd-meeti
 ng-apr-2026
DTSTART:20260408T140000Z
DTEND:20260408T150000Z
ATTACH;FILENAME=2026-04-08- Waterset Central CDD - Revised Final Agenda.pdf
 ;FMTTYPE=application/pdf:https://campussuite-storage.s3.amazonaws.com/prod
 /1558882/c15d7e7a-ea99-11e9-aab0-0a31933f87ea/3087376/bb1e3b64-32bb-11f1-9
 89f-0a58a9feac02/file/2026-04-08- Waterset Central CDD - Revised Final Age
 nda.pdf
END:VEVENT
END:VCALENDAR
