BEGIN:VCALENDAR
VERSION:2.0
PRODID:SchoolNow
CALSCALE:GREGORIAN
BEGIN:VEVENT
UID:1db10e00-97d0-11f0-93bc-0a58a9feac02
DTSTAMP:20260211T022143Z
SUMMARY:CDD Meeting - Feb. 2026
LOCATION:The Waterset Club located at 7281 Paradiso Dr. Apollo Beach\, FL 3
 3572
URL;VALUE=URI:https://www.watersetcentralcdd.org/calendar/8653059/cdd-meeti
 ng-feb-2026
DTSTART:20260211T150000Z
DTEND:20260211T160000Z
ATTACH;FILENAME=2026-02-11- Waterset Central CDD - Revised Final Agenda.pdf
 ;FMTTYPE=application/pdf:https://campussuite-storage.s3.amazonaws.com/prod
 /1558882/c15d7e7a-ea99-11e9-aab0-0a31933f87ea/3069551/5d3d48ba-06f0-11f1-b
 944-0a58a9feac02/file/2026-02-11- Waterset Central CDD - Revised Final Age
 nda.pdf
END:VEVENT
END:VCALENDAR
