BEGIN:VCALENDAR
VERSION:2.0
PRODID:SchoolNow
CALSCALE:GREGORIAN
BEGIN:VEVENT
UID:096d1a74-97d0-11f0-8afa-02f131e5a2c7
DTSTAMP:20250922T162021Z
SUMMARY:CDD Meeting - Sept. 2026
LOCATION:The Waterset Club located at 7281 Paradiso Dr. Apollo Beach\, FL 3
 3572.
URL;VALUE=URI:https://www.watersetcentralcdd.org/calendar/8653057/cdd-meeti
 ng-sept-2026
DTSTART:20260909T213000Z
DTEND:20260909T223000Z
END:VEVENT
END:VCALENDAR
