BEGIN:VCALENDAR
VERSION:2.0
PRODID:SchoolNow
CALSCALE:GREGORIAN
BEGIN:VEVENT
UID:fec2871c-97cf-11f0-a57d-0a58a9feac02
DTSTAMP:20250922T162003Z
SUMMARY:CDD Meeting - Jul. 2026
LOCATION:The Waterset Club located at 7281 Paradiso Dr. Apollo Beach\, FL 3
 3572.
URL;VALUE=URI:https://www.watersetcentralcdd.org/calendar/8653054/cdd-meeti
 ng-jul-2026
DTSTART:20260708T213000Z
DTEND:20260708T223000Z
END:VEVENT
END:VCALENDAR
