BEGIN:VCALENDAR
VERSION:2.0
PRODID:SchoolNow
CALSCALE:GREGORIAN
BEGIN:VEVENT
UID:f46bd746-97cf-11f0-ba0b-0a58a9feac02
DTSTAMP:20250922T161946Z
SUMMARY:CDD Meeting - May 2026
LOCATION:The Waterset Club located at 7281 Paradiso Dr. Apollo Beach\, FL 3
 3572.
URL;VALUE=URI:https://www.watersetcentralcdd.org/calendar/8653053/cdd-meeti
 ng-may-2026
DTSTART:20260513T213000Z
DTEND:20260513T223000Z
END:VEVENT
END:VCALENDAR
