BEGIN:VCALENDAR
VERSION:2.0
PRODID:SchoolNow
CALSCALE:GREGORIAN
BEGIN:VEVENT
UID:eaaab1b4-97cf-11f0-b793-0e2a0f17729d
DTSTAMP:20260310T165856Z
SUMMARY:CDD Meeting - Mar. 2026
LOCATION:The Waterset Club located at 7281 Paradiso Dr. Apollo Beach\, FL 3
 3572.
URL;VALUE=URI:https://www.watersetcentralcdd.org/calendar/8653052/cdd-meeti
 ng-mar-2026
DTSTART:20260311T213000Z
DTEND:20260311T223000Z
ATTACH;FILENAME=2026-03-11- Waterset Central CDD- Revised Final Agenda.pdf;
 FMTTYPE=application/pdf:https://campussuite-storage.s3.amazonaws.com/prod/
 1558882/c15d7e7a-ea99-11e9-aab0-0a31933f87ea/3078314/66ad4694-1ca2-11f1-91
 3b-0a58a9feac02/file/2026-03-11- Waterset Central CDD- Revised Final Agend
 a.pdf
END:VEVENT
END:VCALENDAR
